BEGIN:VCALENDAR
VERSION:2.0
PRODID:-//eventon.com NONSGML v1.0//EN
CALSCALE:GREGORIAN
METHOD:PUBLISH
BEGIN:VEVENT
UID:69e750938c2f0
DTSTAMP:20260421T102523Z
DTSTART:20260520T120000Z
DTEND:20260520T190000Z
LOCATION:Bataviastad
SUMMARY:Middagje naar de Markerwadden met de veerboot
DESCRIPTION:Middagje naar de Markerwadden met de veerboot 20 mei een middag
  op de Markerwadden plus diner. Bij voldoende belangstelling gaan we opnieu
 w een middag naar de Markerwadden. Dit mede gezien de grote belangstellingĀ
   oor deze activiteit in 2024. U kunt hier wandelen en vogels spotten. Neem
  U fototoestel mee en[..]\nhttps://www.pvalliander.com/events/middagje-naar
 -de-markerwadden-met-de-veerboot-2/
URL:https://www.pvalliander.com/events/middagje-naar-de-markerwadden-met-de-veerboot-2/
END:VEVENT
END:VCALENDAR