BEGIN:VCALENDAR
VERSION:2.0
PRODID:-//eventon.com NONSGML v1.0//EN
CALSCALE:GREGORIAN
METHOD:PUBLISH
BEGIN:VEVENT
UID:69e750e3391aa
DTSTAMP:20260421T102643Z
DTSTART:20260611T103000Z
DTEND:20260611T210000Z
LOCATION:Skûtsjemuseum De Stripe 12\,  9264 TW Earnewâld
SUMMARY:Fietspontjes-tocht door de Alde Feanen in Friesland
DESCRIPTION:Fietspontjes-tocht door de Alde Feanen in Friesland Op donderda
 g 11 juni staat er een mooie fietstocht\,  vanuit Earnewâld (Eernewoude) d
 oor het Nationaal park de Alde Feanen op het programma. De fietstocht is ca
 .32 km lang en u steekt met maar liefst 5 fietspontjes diverse waterwegen o
 ver. Ook is er een[..]\nhttps://www.pvalliander.com/events/fietspontjes-toc
 ht-door-de-alde-feanen-in-friesland/
URL:https://www.pvalliander.com/events/fietspontjes-tocht-door-de-alde-feanen-in-friesland/
END:VEVENT
END:VCALENDAR