BEGIN:VCALENDAR
VERSION:2.0
PRODID:-//eventon.com NONSGML v1.0//EN
CALSCALE:GREGORIAN
METHOD:PUBLISH
BEGIN:VEVENT
UID:69e73a065a84c
DTSTAMP:20260421T084910Z
DTSTART:20191212T080000Z
DTEND:20191213T210000Z
LOCATION:Hotel am Wall Dasselwall 19\,  59494 Soest
SUMMARY:Kerstshoppen Duitsland 2019
DESCRIPTION:Kerstshoppen Duitsland 2019 Twee daagse kerstreis naar de Weina
 chtsmarkten in Duitsland. Donderdag 12 december gaan we vanuit Herveld met 
 de bus naar Soest waar we gaan overnachten in Hotel am Wall\,  ook bezoeken
  we de binnenstad. Ook hier een historisch centrum\,  Weinachtsmarkt en nat
 uurlijk de extra sfeer in de donkere\, [..]\nhttps://www.pvalliander.com/ev
 ents/kerstshoppen-duitsland-2019/
URL:https://www.pvalliander.com/events/kerstshoppen-duitsland-2019/
END:VEVENT
END:VCALENDAR