BEGIN:VCALENDAR
VERSION:2.0
PRODID:-//eventon.com NONSGML v1.0//EN
CALSCALE:GREGORIAN
METHOD:PUBLISH
BEGIN:VEVENT
UID:69e60338026ba
DTSTAMP:20260420T104304Z
DTSTART:20180327T190000Z
DTEND:20180327T220000Z
LOCATION:Groot- Roessink Vordenseweg 84
SUMMARY:Paascrea Doetinchem / Hengelo 27 of 29 maart 2018
DESCRIPTION:Paascrea Doetinchem / Hengelo 27 of 29 maart 2018 Voor onze cre
 atievelingen hebben we weer een Paascrea georganiseerd bij Bloemenboerderij
  Groot Roessink in Hengelo. Voor het maken van het paasstuk moet u een keuz
 e voor de datum maken en het soort paasstuk. U kunt uit 2 data kiezen. Indi
 en u[..]\nhttps://www.pvalliander.com/events/paascrea-2018-doetinchem-henge
 lo-10/
URL:https://www.pvalliander.com/events/paascrea-2018-doetinchem-hengelo-10/
END:VEVENT
END:VCALENDAR