BEGIN:VCALENDAR
VERSION:2.0
PRODID:-//eventon.com NONSGML v1.0//EN
CALSCALE:GREGORIAN
METHOD:PUBLISH
BEGIN:VEVENT
UID:69e63bdf8adc2
DTSTAMP:20260420T144447Z
DTSTART:20180225T190000Z
DTEND:20180323T233000Z
LOCATION:Wijkcentrum ’t Achterom Homberg 2535
SUMMARY:Voorjaarsbingo Nijmegen 2018
DESCRIPTION:Voorjaarsbingo Nijmegen Vrijdag 23 maart zal er weer een grandi
 oze voorjaarsbingo zijn voor de leden van de PV Alliander PA met partner of
  hun introducé in het wijkcentrum ’t Achterom in Wijchen. Vanaf 19.30 uu
 r hebben wij de koffie of thee voor jullie klaar staan en zal er op de[..]\
 nhttps://www.pvalliander.com/events/voorjaarsbingo-nijmegen-2018/
URL:https://www.pvalliander.com/events/voorjaarsbingo-nijmegen-2018/
END:VEVENT
END:VCALENDAR