BEGIN:VCALENDAR
VERSION:2.0
PRODID:-//eventon.com NONSGML v1.0//EN
CALSCALE:GREGORIAN
METHOD:PUBLISH
BEGIN:VEVENT
UID:69e8f76ade14c
DTSTAMP:20260422T162930Z
DTSTART:20171010T080000Z
DTEND:20171012T200000Z
LOCATION:Wolfsburg Duitsland
SUMMARY:Bezoek Volkswagen fabriek en Warsteiner bierbrouwerij
DESCRIPTION:Bezoek Volkswagenfabriek en Warsteiner bierbrouwerij. De datum&
 #8217; s zijn bekend we gaan van 10 oktober tot en met 12 oktober 2017 Tijd
 ens de reis van 3 dagen bezoeken we de Volkswagenfabriek en een grote bie
 rbrouwerij (Altes brauhaus zu Fallerssleben). Deze geheel verzorgde reis ma
 ken wij met een luxe touringcar en overnachten we[..]\nhttps://www.pvallian
 der.com/events/bezoek-volkswagen-fabriek-en-warsteiner-bierbrouwerij/
URL:https://www.pvalliander.com/events/bezoek-volkswagen-fabriek-en-warsteiner-bierbrouwerij/
END:VEVENT
END:VCALENDAR